BEGIN:VCALENDAR
VERSION:2.0
PRODID:Events Booking
BEGIN:VEVENT
UID:69e76ec6864a7
SUMMARY:IFMA Site Visit: HORTUS – Radikale Nachhaltigkeit erleben\, Allsc
 hwil
DESCRIPTION:HORTUS ist ein Bürogebäude für umweltbewusste Unternehmen\, 
 entworfen von SENN und Herzog &amp\; de Meuron. Mit seinem Ansatz der radi
 kalen Nachhaltigkeit in Design\, Konstruktion und Zusammenarbeit soll das 
 Gebäude bereits nach rund 30 Jahren energiepositiv sein.
LOCATION:Rudolf Geigy-Strasse 3\, 4123 Allschwil\, Schweiz
DTSTART:20260908T143000Z
DTEND:20260908T163000Z
DTSTAMP:20260330T145451Z
ORGANIZER;CN=IFMA Schweiz :MAILTO:admin@ifma.ch
GEO:47.560945;7.550121
X-APPLE-STRUCTURED-LOCATION;VALUE=URI;X-ADDRESS=Rudolf Geigy-Strasse 3\, 41
 23 Allschwil\, Schweiz;X-APPLE-RADIUS=72;X-TITLE=HORTUS:47.560945;7.550121
END:VEVENT
END:VCALENDAR