BEGIN:VCALENDAR
VERSION:2.0
PRODID:Events Booking
BEGIN:VEVENT
UID:69ed8bff92ea4
SUMMARY:IFMA Meets: Comment le FM peut-il contribuer a l'ESG ?
DESCRIPTION:
 Le programme arrive environ trois semaines à l'avance
 Le 
 secteur du bâtiment est responsable de 35% de la consommation mondiale d'
 énergie et de 38% des émissions de CO₂ liées à l'énergie. Ces chiff
 res mettent en évidence la né-cessité de bâtiments plus durables. Ce w
 ebinaire présentera les avantages d'une plateforme intégrée pour la mis
 e en œuvre de votre stratégie ESG\, la définition des objectifs\, la co
 llecte des données\, l'identification des potentiels d'optimisation et l'
 évaluation.
LOCATION:Zürich\, Schweiz
DTSTART:20250320T110000Z
DTEND:20250320T114500Z
DTSTAMP:20240529T075250Z
ORGANIZER;CN=IFMA Schweiz :MAILTO:admin@ifma.ch
GEO:47.376887;8.541694
X-APPLE-STRUCTURED-LOCATION;VALUE=URI;X-ADDRESS=Zürich\, Schweiz;X-APPLE-R
 ADIUS=72;X-TITLE=online:47.376887;8.541694
END:VEVENT
END:VCALENDAR