BEGIN:VCALENDAR
VERSION:2.0
PRODID:Events Booking
BEGIN:VEVENT
UID:69ea22e24c374
SUMMARY:IFMA Meets: Cybersécurité et Facility Management
DESCRIPTION:Ce webinaire abordera les défis spécifiques en matière de cy
 bersécurité auxquels sont confrontés les professionnels de la gestion d
 es installations et fournira des conseils pratiques sur la manière de sé
 curiser les environnements de bâtiments connectés. À travers des exempl
 es concrets et des cas d'utilisation réels\, les participants acquerront 
 une compréhension claire des menaces et des bonnes pratiques applicables.
LOCATION:Zürich\, Schweiz
DTSTART:20260521T100000Z
DTEND:20260521T104500Z
DTSTAMP:20260422T155734Z
ORGANIZER;CN=IFMA Schweiz :MAILTO:admin@ifma.ch
GEO:47.376887;8.541694
X-APPLE-STRUCTURED-LOCATION;VALUE=URI;X-ADDRESS=Zürich\, Schweiz;X-APPLE-R
 ADIUS=72;X-TITLE=online:47.376887;8.541694
END:VEVENT
END:VCALENDAR