BEGIN:VCALENDAR
VERSION:2.0
PRODID:Events Booking
BEGIN:VEVENT
UID:69e76d1f161d1
SUMMARY:IFMA Meets: FM & neutralité carbone – Comment  atteindre vos obj
 ectifs ESG ?
DESCRIPTION:Optimiser l'énergie d'un bâtiment sans savoir comment il est 
 utilisé\, c'est piloter à l'aveugle. La technologie de comptage de perso
 nnes change cette équation : en croisant flux réels et consommation éne
 rgétique\, elle offre enfin une lecture précise de ce qui se passe et de
  ce qu'on peut optimiser.C'est le sujet de notre prochain événement IFMA
 .
LOCATION:Zürich\, Schweiz
DTSTART:20260423T100000Z
DTEND:20260423T104500Z
DTSTAMP:20260324T095058Z
ORGANIZER;CN=IFMA Schweiz :MAILTO:admin@ifma.ch
GEO:47.376887;8.541694
X-APPLE-STRUCTURED-LOCATION;VALUE=URI;X-ADDRESS=Zürich\, Schweiz;X-APPLE-R
 ADIUS=72;X-TITLE=online:47.376887;8.541694
END:VEVENT
END:VCALENDAR