BEGIN:VCALENDAR
VERSION:2.0
PRODID:Events Booking
BEGIN:VEVENT
UID:69e76daf0e2f9
SUMMARY:IFMA Meets: Strategisches Flächenmanagement - Next Level mit KI
DESCRIPTION:Effizienzgewinn durch verbesserte Bedarfsplanung und noch mehr 
 Optimierungspotenzial
 Belegungs- und Umzugsplanungen gelten im Facility 
 Management oft als besonders aufwendig: eine Vielzahl an Regeln\, Teamanfo
 rderungen und Abhängigkeiten muss gleichzeitig berücksichtigt werden. Di
 ese Komplexität in der sogenannten \"Demand Planung\" führt häufig dazu
 \, dass Organisationen an manuellen Methoden festhalten\, obwohl bereits h
 eute digitalisierte und automatisierte Prozesse nachweislich effizienter s
 ind. Diese existierende Automation lässt sich mit Künstlicher Intelligen
 z (KI) definitiv auf ein neues Level heben und eröffnet weitreichendes Op
 timierungspotenzial. Allein die zahlreichen Vorbehalte\, ob KI bei solch s
 ensiblen Entscheidungen wirklich verlässliche Ergebnisse liefert\, bremst
  den Markteintritt noch aus.
LOCATION:Zürich\, Schweiz
DTSTART:20260518T143000Z
DTEND:20260518T153000Z
DTSTAMP:20260108T074816Z
ORGANIZER;CN=IFMA Schweiz :MAILTO:admin@ifma.ch
GEO:47.376887;8.541694
X-APPLE-STRUCTURED-LOCATION;VALUE=URI;X-ADDRESS=Zürich\, Schweiz;X-APPLE-R
 ADIUS=72;X-TITLE=online:47.376887;8.541694
END:VEVENT
END:VCALENDAR