BEGIN:VCALENDAR
VERSION:2.0
PRODID:Events Booking
BEGIN:VEVENT
UID:69ea4b58ebf6b
SUMMARY:Dialog Nachhaltige Infrastruktur
DESCRIPTION:In diesem alljährlich stattfindenden Austausch erfahren Sie au
 s erster Hand\, wie und wo der SNBS-Infrastruktur bereits angewendet wird.
  Vorteile und mögliche Verbesserungen werden zudem anhand von Beispielen 
 aus der Praxis erörtert. Der Dialog zeigt aktuelle Entwicklungen auf und 
 setzt auf Austausch und Diskussion – Fragen und Anregungen der Teilnehme
 nden sind ausdrücklich willkommen.
LOCATION:Welle 7\, Schanzenstrasse 5\, 3008 Bern\, Schweiz
DTSTART:20260507T121500Z
DTEND:20260507T150000Z
DTSTAMP:20260319T131247Z
ORGANIZER;CN=IFMA Schweiz :MAILTO:admin@ifma.ch
GEO:46.947975;7.436327
X-APPLE-STRUCTURED-LOCATION;VALUE=URI;X-ADDRESS=Welle 7\, Schanzenstrasse 5
 \, 3008 Bern\, Schweiz;X-APPLE-RADIUS=72;X-TITLE=Bern\, Welle 7:46.947975;
 7.436327
END:VEVENT
END:VCALENDAR