BEGIN:VCALENDAR
VERSION:2.0
PRODID:Events Booking
BEGIN:VEVENT
UID:69ea4b9f07624
SUMMARY:GNI und MMTS: Millennium - Technische Einblicke und Führung 
DESCRIPTION:
 Nutzen Sie die einmalige Gelegenheit\, die integrierte Techn
 ik des prestigeträchtigen Millennium Centers in Crissier zu entdecken. Di
 eser aussergewöhnliche Ort öffnet Ihnen seine Türen für eine exklusive
  Führung und gewährt Ihnen einen privilegierten Einblick hinter die Kuli
 ssen.
 
 Der Anlass wir mehrheitlich auf Französisch erfolgen. Die Füh
 rung kann auf Französisch oder Englisch gewählt werden.&nbsp\;Somit sind
  auch Teilnehmende aus der Deutschschweiz herzlich willkommen.&nbsp\;
LOCATION:Chemin de Mongevon 25\, 1023 Crissier\, Schweiz
DTSTART:20260519T114500Z
DTEND:20260519T150000Z
DTSTAMP:20260330T132735Z
ORGANIZER;CN=IFMA Schweiz :MAILTO:admin@ifma.ch
GEO:46.549717;6.569938
X-APPLE-STRUCTURED-LOCATION;VALUE=URI;X-ADDRESS=Chemin de Mongevon 25\, 102
 3 Crissier\, Schweiz;X-APPLE-RADIUS=72;X-TITLE=Crissier\, Millennium Centr
 e:46.549717;6.569938
END:VEVENT
END:VCALENDAR