BEGIN:VCALENDAR
VERSION:2.0
PRODID:Events Booking
BEGIN:VEVENT
UID:69ea63e277dbc
SUMMARY:Make Some Noise in Real Estate meets FMplus 2026
DESCRIPTION:Die FMplus trifft am 6.-7. Mai 2026 auf die Make Some Noise in 
 Real Estate – das Alumniformat des Studiengangs Immobilienmanagement der
  FH Münster. Dabei wird der 6. Mai 2026 im Zeichen der Make Some Noise in
  Real Estate stehen\; diesem Tag werden wir sodann abendlich in Münster a
 usklingen lassen\, um den 7. Mai 2026 vollständig der angewandten Forschu
 ng und Wissenschaft zu widmen\; mit den zentralen Zielen:&nbsp\;
 
 Nutz
 ung wissenschaftlicher Forschung und Ergebnisse zur Gestaltung des betrieb
 lichen Immobilienmanagements der Zukunft
 Schaffung einer Netzwerkplattfo
 rm für Wissenschaft\, Praxis\, öffentliche Verwaltung\, Verbände und Po
 litik. Hier gilt auch unser Alumnispruch: It´s networking or not working
 
 Förderung des wissenschaftlichen Nachwuchses
 
LOCATION:Fachhochschulzentrum\, Corrensstraße 25\, 48149 Münster\, Deutsc
 hland
DTSTART:20260506T060000Z
DTEND:20260507T150000Z
DTSTAMP:20260105T091112Z
ORGANIZER;CN=IFMA Schweiz :MAILTO:admin@ifma.ch
GEO:51.968373;7.595243
X-APPLE-STRUCTURED-LOCATION;VALUE=URI;X-ADDRESS=Fachhochschulzentrum\, Corr
 ensstraße 25\, 48149 Münster\, Deutschland;X-APPLE-RADIUS=72;X-TITLE=FH 
 Münster:51.968373;7.595243
END:VEVENT
END:VCALENDAR