BEGIN:VCALENDAR
VERSION:2.0
PRODID:Events Booking
BEGIN:VEVENT
UID:69eb4be3f41a7
SUMMARY:GV GNI Gebäude Netzwerk Initiative (inkl. Jubiläumsfeier 30 Jahre
  GNI)
DESCRIPTION:30 Jahre und noch kein bisschen leise! Kombiniert mit der orden
 tlichen Generalversammlung erwartet euch ein spannender Nachmittag mit Fü
 hrungen\, Referate sowie ein Jubiläumsprogramm im Kinderspital «Kispi» 
 Zürich. Dabei wird aus erster Hand das installierte Gebäudemanagement-Sy
 stem vorgestellt. Diese integrierte Plattform vernetzt die Gebäude- und S
 icherheitssysteme\, überwacht und steuert – für maximale Effizienz\, K
 omfort und Sicherheit. Der Technische Dienst des Kinderspitals erläutert 
 die Herausforderungen der Inbetriebnahme sowie der ersten Betriebsjahre. 
 
 Gäste und Interessierte sind herzlich willkommen! 
 IFMA Mitglieder pr
 ofitieren von einem vergünstigten Eintritt!
LOCATION:Lenggstrasse 30\, 8008 Zürich\, Schweiz
DTSTART:20260507T113000Z
DTEND:20260507T193000Z
DTSTAMP:20251223T082634Z
ORGANIZER;CN=IFMA Schweiz :MAILTO:admin@ifma.ch
GEO:47.351697;8.57123
X-APPLE-STRUCTURED-LOCATION;VALUE=URI;X-ADDRESS=Lenggstrasse 30\, 8008 Zür
 ich\, Schweiz;X-APPLE-RADIUS=72;X-TITLE=Zürich\, Kinderspital Zürich:47.
 351697;8.57123
END:VEVENT
END:VCALENDAR