BEGIN:VCALENDAR
VERSION:2.0
PRODID:Events Booking
BEGIN:VEVENT
UID:69eca92a62107
SUMMARY:GNI and MMTS: Millennium – Technical Insights and Tour 
DESCRIPTION:
 Take advantage of this unique opportunity to discover the st
 ate-of-the-art technology at the prestigious Millennium Center in Crissier
 . This extraordinary venue is opening its doors to you for an exclusive to
 ur\, offering a special behind-the-scenes look.
 
 The event will be con
 ducted primarily in French. You may choose to take the tour in either Fren
 ch or English. Participants from German-speaking Switzerland are therefore
  also warmly welcome.
LOCATION:Chemin de Mongevon 25\, 1023 Crissier\, Schweiz
DTSTART:20260519T114500Z
DTEND:20260519T150000Z
DTSTAMP:20260330T132735Z
ORGANIZER;CN=IFMA Schweiz :MAILTO:admin@ifma.ch
GEO:46.549717;6.569938
X-APPLE-STRUCTURED-LOCATION;VALUE=URI;X-ADDRESS=Chemin de Mongevon 25\, 102
 3 Crissier\, Schweiz;X-APPLE-RADIUS=72;X-TITLE=Crissier\, Millennium Centr
 e:46.549717;6.569938
END:VEVENT
END:VCALENDAR