BEGIN:VCALENDAR
VERSION:2.0
PRODID:Events Booking
BEGIN:VEVENT
UID:69eb21e81e5b0
SUMMARY:AI + X Summit: Exploring AI and Deep Tech Innovations for the Next 
 Generation
DESCRIPTION:
 AI+X Summit program features four formats\, each designed to
  engage diverse audiences with the full breadth of AI innovation and appli
 cation.
 
LOCATION:Elias-Canetti-Strasse 146\, 8050 Zürich\, Schweiz
DTSTART:20261001T063000Z
DTEND:20261001T162000Z
DTSTAMP:20251222T100140Z
ORGANIZER;CN=IFMA Schweiz :MAILTO:admin@ifma.ch
GEO:47.4115;8.5391
X-APPLE-STRUCTURED-LOCATION;VALUE=URI;X-ADDRESS=Elias-Canetti-Strasse 146\,
  8050 Zürich\, Schweiz;X-APPLE-RADIUS=72;X-TITLE=Zürich\, StageOne:47.41
 15;8.5391
END:VEVENT
END:VCALENDAR