BEGIN:VCALENDAR
VERSION:2.0
PRODID:Events Booking
BEGIN:VEVENT
UID:69eb21e2ac965
SUMMARY:fmpro Symposium 2026
DESCRIPTION:
 Am 25. Juni 2026 findet in der Messe Luzern das fmpro Sympos
 ium 2026 statt – der Community-Anlass für die ganze FM- und Maintenance
 -Branche und ein abwechslungsreicher Mix von Fachinhalten\, Verbandsinform
 ation und Networking.
 Wie gewohnt beginnt das fmpro Symposium 2026 mit d
 er Generalversammlung von fmpro. Im Anschluss erwarten die Teilnehmenden e
 in Keynote-Referat\, vier Impulsreferate sowie ein Innovation Market und d
 er fmpro Social Event.
 
LOCATION:Horwerstrasse 87\, 6005 Luzern\, Schweiz
DTSTART:20260625T110000Z
DTEND:20260625T203000Z
DTSTAMP:20260310T144536Z
ORGANIZER;CN=IFMA Schweiz :MAILTO:admin@ifma.ch
GEO:47.033926;8.30517
X-APPLE-STRUCTURED-LOCATION;VALUE=URI;X-ADDRESS=Horwerstrasse 87\, 6005 Luz
 ern\, Schweiz;X-APPLE-RADIUS=72;X-TITLE=Luzern\, Messe Luzern:47.033926;8.
 30517
END:VEVENT
END:VCALENDAR