BEGIN:VCALENDAR
VERSION:2.0
PRODID:Events Booking
BEGIN:VEVENT
UID:69ecbbf778048
SUMMARY:GNI et MMTS: Millennium - Visite technique du bâtiment 
DESCRIPTION:Saisissez cette occasion unique de découvrir la technologie in
 tégrée du prestigieux bâtiment Millennium Center à Crissier. Ce lieu d
 ’exception vous ouvre ses portes pour une visite exclusive et vous offre
  un aperçu privilégié de ses coulisses.Profitez également de cet évé
 nement pour rencontrer des professionnels passionnés des domaines de la t
 echnique\, de la technologie et de l’événementiel\, et échanger avec 
 eux autour de leurs savoir faire.
LOCATION:Chemin de Mongevon 25\, 1023 Crissier\, Schweiz
DTSTART:20260519T114500Z
DTEND:20260519T150000Z
DTSTAMP:20260330T132735Z
ORGANIZER;CN=IFMA Schweiz :MAILTO:admin@ifma.ch
GEO:46.549717;6.569938
X-APPLE-STRUCTURED-LOCATION;VALUE=URI;X-ADDRESS=Chemin de Mongevon 25\, 102
 3 Crissier\, Schweiz;X-APPLE-RADIUS=72;X-TITLE=Crissier\, Millennium Centr
 e:46.549717;6.569938
END:VEVENT
END:VCALENDAR