BEGIN:VCALENDAR
VERSION:2.0
PRODID:Events Booking
BEGIN:VEVENT
UID:69ea71fcc10cb
SUMMARY:Architektur- und Energiereise 2026
DESCRIPTION:
 
 
 Freuen Sie sich auf einen bunten Strauss an spannenden
  Programmpunkten: auf der Architektur- und Energiereise 2026 am&nbsp\;Frei
 tag und Samstag\, 12. und 13. Juni 2026&nbsp\;nach Mailand.
 
 
 
 Obw
 ohl weite Strecken mit öffentlichen Verkehrsmitteln zurückgelegt werden\
 , werden wir im Rahmen der Führungen und Rundgänge viel zu Fuss unterweg
 s sein.
 
 
 
 Die&nbsp\;Führungen vor Ort&nbsp\;werden grösstenteil
 s auf&nbsp\;Englisch&nbsp\;stattfinden.
DTSTART:20260612T060000Z
DTEND:20260613T150000Z
DTSTAMP:20260319T132845Z
ORGANIZER;CN=IFMA Schweiz :MAILTO:admin@ifma.ch
END:VEVENT
END:VCALENDAR